BEGIN:VCALENDAR
VERSION:2.0
PRODID:-//FWW - ECPv6.15.15//NONSGML v1.0//EN
CALSCALE:GREGORIAN
METHOD:PUBLISH
X-ORIGINAL-URL:https://www.finewineworks.com
X-WR-CALDESC:Events for FWW
REFRESH-INTERVAL;VALUE=DURATION:PT1H
X-Robots-Tag:noindex
X-PUBLISHED-TTL:PT1H
BEGIN:VTIMEZONE
TZID:Europe/Paris
BEGIN:DAYLIGHT
TZOFFSETFROM:+0100
TZOFFSETTO:+0200
TZNAME:CEST
DTSTART:20180325T010000
END:DAYLIGHT
BEGIN:STANDARD
TZOFFSETFROM:+0200
TZOFFSETTO:+0100
TZNAME:CET
DTSTART:20181028T010000
END:STANDARD
BEGIN:DAYLIGHT
TZOFFSETFROM:+0100
TZOFFSETTO:+0200
TZNAME:CEST
DTSTART:20190331T010000
END:DAYLIGHT
BEGIN:STANDARD
TZOFFSETFROM:+0200
TZOFFSETTO:+0100
TZNAME:CET
DTSTART:20191027T010000
END:STANDARD
BEGIN:DAYLIGHT
TZOFFSETFROM:+0100
TZOFFSETTO:+0200
TZNAME:CEST
DTSTART:20200329T010000
END:DAYLIGHT
BEGIN:STANDARD
TZOFFSETFROM:+0200
TZOFFSETTO:+0100
TZNAME:CET
DTSTART:20201025T010000
END:STANDARD
BEGIN:DAYLIGHT
TZOFFSETFROM:+0100
TZOFFSETTO:+0200
TZNAME:CEST
DTSTART:20210328T010000
END:DAYLIGHT
BEGIN:STANDARD
TZOFFSETFROM:+0200
TZOFFSETTO:+0100
TZNAME:CET
DTSTART:20211031T010000
END:STANDARD
BEGIN:DAYLIGHT
TZOFFSETFROM:+0100
TZOFFSETTO:+0200
TZNAME:CEST
DTSTART:20220327T010000
END:DAYLIGHT
BEGIN:STANDARD
TZOFFSETFROM:+0200
TZOFFSETTO:+0100
TZNAME:CET
DTSTART:20221030T010000
END:STANDARD
BEGIN:DAYLIGHT
TZOFFSETFROM:+0100
TZOFFSETTO:+0200
TZNAME:CEST
DTSTART:20230326T010000
END:DAYLIGHT
BEGIN:STANDARD
TZOFFSETFROM:+0200
TZOFFSETTO:+0100
TZNAME:CET
DTSTART:20231029T010000
END:STANDARD
END:VTIMEZONE
BEGIN:VEVENT
DTSTART;VALUE=DATE:20220222
DTEND;VALUE=DATE:20220223
DTSTAMP:20260419T173537
CREATED:20211201T163520Z
LAST-MODIFIED:20211201T163520Z
UID:2214-1645488000-1645574399@www.finewineworks.com
SUMMARY:WSET® Wine Level 1\, Antibes France
DESCRIPTION:A one day Wine Course – WSET Level 1 Award in Wines held in Antibes\, France. \nCourse fee includes refreshments. \nClick to Enquire
URL:https://www.finewineworks.com/fww-wine-training-event/wset-wine-level-1-antibes-france-7/
CATEGORIES:WSET Wine Level 1
ATTACH;FMTTYPE=image/jpeg:https://www.finewineworks.com/wp-content/uploads/2019/05/WSET-Level-One.jpg
END:VEVENT
BEGIN:VEVENT
DTSTART;VALUE=DATE:20220215
DTEND;VALUE=DATE:20220216
DTSTAMP:20260419T173537
CREATED:20211201T163234Z
LAST-MODIFIED:20211201T163234Z
UID:2209-1644883200-1644969599@www.finewineworks.com
SUMMARY:WSET® Wine Level 1\, Palma Mallorca
DESCRIPTION:A one day Wine Course – WSET Level 1 in Wine held in Palma\, Mallorca at the VIP Service School. \nCourse fee includes refreshments \nClick to Enquire
URL:https://www.finewineworks.com/fww-wine-training-event/wset-wine-level-1-palma-mallorca-7/
CATEGORIES:WSET Wine Level 1
ATTACH;FMTTYPE=image/jpeg:https://www.finewineworks.com/wp-content/uploads/2019/05/WSET-Level-One.jpg
END:VEVENT
BEGIN:VEVENT
DTSTART;VALUE=DATE:20211116
DTEND;VALUE=DATE:20211117
DTSTAMP:20260419T173537
CREATED:20210730T091431Z
LAST-MODIFIED:20210803T152520Z
UID:2177-1637020800-1637107199@www.finewineworks.com
SUMMARY:WSET Level 1 Award in Wines – (1 day) – 16th November - Antibes
DESCRIPTION:A one day Wine Course – WSET Level 1 Award in Wines (GUEST Accredited) held in Antibes\, France. \nClick to Enquire
URL:https://www.finewineworks.com/fww-wine-training-event/wset-level-1-award-in-wines-1-day-16th-november-antibes/
CATEGORIES:WSET Wine Level 1
ATTACH;FMTTYPE=image/jpeg:https://www.finewineworks.com/wp-content/uploads/2019/08/L1-image-for-TC.jpg
END:VEVENT
BEGIN:VEVENT
DTSTART;VALUE=DATE:20211109
DTEND;VALUE=DATE:20211110
DTSTAMP:20260419T173537
CREATED:20210730T091115Z
LAST-MODIFIED:20210803T152552Z
UID:2173-1636416000-1636502399@www.finewineworks.com
SUMMARY:WSET Level 1 Award in Wines – (1 day)  - 9th November - Palma
DESCRIPTION:A one day Wine Course – WSET Level 1 Award in Wines (GUEST Accredited) held in Palma\, Mallorca. \nClick to Enquire
URL:https://www.finewineworks.com/fww-wine-training-event/wset-level-1-award-in-wines-1-day-9th-november-palma/
CATEGORIES:WSET Wine Level 1
ATTACH;FMTTYPE=image/jpeg:https://www.finewineworks.com/wp-content/uploads/2019/08/L1-image-for-TC.jpg
END:VEVENT
BEGIN:VEVENT
DTSTART;VALUE=DATE:20211012
DTEND;VALUE=DATE:20211013
DTSTAMP:20260419T173537
CREATED:20210730T090911Z
LAST-MODIFIED:20210803T152628Z
UID:2169-1633996800-1634083199@www.finewineworks.com
SUMMARY:WSET Level 1 Award in Wines – (1 day) – 12th October – Palma
DESCRIPTION:A one day Wine Course – WSET Level 1 Award in Wines (GUEST Accredited) held in Palma\, Mallorca. \nClick to Enquire
URL:https://www.finewineworks.com/fww-wine-training-event/wset-level-1-award-in-wines-1-day-12th-october-palma/
CATEGORIES:WSET Wine Level 1
ATTACH;FMTTYPE=image/jpeg:https://www.finewineworks.com/wp-content/uploads/2019/08/L1-image-for-TC.jpg
END:VEVENT
BEGIN:VEVENT
DTSTART;VALUE=DATE:20211005
DTEND;VALUE=DATE:20211006
DTSTAMP:20260419T173537
CREATED:20210730T090620Z
LAST-MODIFIED:20210804T095028Z
UID:2165-1633392000-1633478399@www.finewineworks.com
SUMMARY:WSET Level 1 Award in Wines – (1 day) 5th October – Antibes
DESCRIPTION:A one day Wine Course – WSET Level 1 Award in Wines (GUEST Accredited) held in Antibes\, France. \nClick to Enquire
URL:https://www.finewineworks.com/fww-wine-training-event/wset-level-1-award-in-wines-1-day-5th-october-antibes/
CATEGORIES:WSET Wine Level 1
ATTACH;FMTTYPE=image/jpeg:https://www.finewineworks.com/wp-content/uploads/2019/08/L1-image-for-TC.jpg
END:VEVENT
BEGIN:VEVENT
DTSTART;TZID=Europe/Paris:20201102T080000
DTEND;TZID=Europe/Paris:20201102T170000
DTSTAMP:20260419T173537
CREATED:20200819T183910Z
LAST-MODIFIED:20200819T184359Z
UID:1890-1604304000-1604336400@www.finewineworks.com
SUMMARY:WSET® Wine Level 1\, Antibes France
DESCRIPTION:A three day Wine Course – WSET Level 1 Award in Wines (GUEST Accredited) held in Antibes\, France. \nCourse fee includes refreshments. \nClick to Enquire
URL:https://www.finewineworks.com/fww-wine-training-event/wset-wine-level-1-antibes-france-4/
CATEGORIES:WSET Wine Level 1
ATTACH;FMTTYPE=image/jpeg:https://www.finewineworks.com/wp-content/uploads/2019/05/WSET-Level-One.jpg
END:VEVENT
BEGIN:VEVENT
DTSTART;TZID=Europe/Paris:20201027T080000
DTEND;TZID=Europe/Paris:20201027T170000
DTSTAMP:20260419T173537
CREATED:20200819T183605Z
LAST-MODIFIED:20200819T183605Z
UID:1886-1603785600-1603818000@www.finewineworks.com
SUMMARY:WSET® Wine Level 1\, Palma Mallorca
DESCRIPTION:A one day Wine Course – WSET Level 1 in Wine (GUEST Accredited) held in Palma\, Mallorca at the VIP Service School. \nCourse fee includes refreshments \nClick to Enquire
URL:https://www.finewineworks.com/fww-wine-training-event/wset-wine-level-1-palma-mallorca-4/
CATEGORIES:WSET Wine Level 1
ATTACH;FMTTYPE=image/jpeg:https://www.finewineworks.com/wp-content/uploads/2019/05/WSET-Level-One.jpg
END:VEVENT
BEGIN:VEVENT
DTSTART;TZID=Europe/Paris:20201005T080000
DTEND;TZID=Europe/Paris:20201005T170000
DTSTAMP:20260419T173537
CREATED:20200819T183742Z
LAST-MODIFIED:20200819T184221Z
UID:1888-1601884800-1601917200@www.finewineworks.com
SUMMARY:WSET® Wine Level 1\, Antibes France
DESCRIPTION:A three day Wine Course – WSET Level 1 Award in Wines (GUEST Accredited) held in Antibes\, France. \nCourse fee includes refreshments. \nClick to Enquire
URL:https://www.finewineworks.com/fww-wine-training-event/wset-wine-level-1-antibes-france-3/
CATEGORIES:WSET Wine Level 1
ATTACH;FMTTYPE=image/jpeg:https://www.finewineworks.com/wp-content/uploads/2019/05/WSET-Level-One.jpg
END:VEVENT
BEGIN:VEVENT
DTSTART;TZID=Europe/Paris:20200928T080000
DTEND;TZID=Europe/Paris:20200928T170000
DTSTAMP:20260419T173537
CREATED:20200819T182732Z
LAST-MODIFIED:20200819T183430Z
UID:1883-1601280000-1601312400@www.finewineworks.com
SUMMARY:WSET® Wine Level 1\, Palma Mallorca
DESCRIPTION:A one day Wine Course – WSET Level 1 in Wine (GUEST Accredited) held in Palma\, Mallorca at the VIP Service School. \nCourse fee includes refreshments \nClick to Enquire
URL:https://www.finewineworks.com/fww-wine-training-event/wset-wine-level-1-palma-mallorca-3/
CATEGORIES:WSET Wine Level 1
ATTACH;FMTTYPE=image/jpeg:https://www.finewineworks.com/wp-content/uploads/2019/05/WSET-Level-One.jpg
END:VEVENT
BEGIN:VEVENT
DTSTART;TZID=Europe/Paris:20200324T080000
DTEND;TZID=Europe/Paris:20200324T170000
DTSTAMP:20260419T173537
CREATED:20191210T191954Z
LAST-MODIFIED:20191210T191954Z
UID:1463-1585036800-1585069200@www.finewineworks.com
SUMMARY:WSET® Wine Level 1\, Antibes France
DESCRIPTION:A three day Wine Course – WSET Level 1 Award in Wines (GUEST Accredited) held in Antibes\, France. \nCourse fee includes lunch & refreshments. \nClick to Enquire
URL:https://www.finewineworks.com/fww-wine-training-event/wset-wine-level-1-antibes-france-2/
CATEGORIES:WSET Wine Level 1
ATTACH;FMTTYPE=image/jpeg:https://www.finewineworks.com/wp-content/uploads/2019/05/WSET-Level-One.jpg
END:VEVENT
BEGIN:VEVENT
DTSTART;TZID=Europe/Paris:20200316T080000
DTEND;TZID=Europe/Paris:20200316T170000
DTSTAMP:20260419T173537
CREATED:20191210T191833Z
LAST-MODIFIED:20191210T191833Z
UID:1461-1584345600-1584378000@www.finewineworks.com
SUMMARY:WSET® Wine Level 1\, Palma Mallorca
DESCRIPTION:A one day Wine Course – WSET Level 1 in Wine (GUEST Accredited) held in Palma\, Mallorca at the VIP Service School. \nCourse fee includes lunch & refreshments \nClick to Enquire
URL:https://www.finewineworks.com/fww-wine-training-event/wset-wine-level-1-palma-mallorca-2/
CATEGORIES:WSET Wine Level 1
ATTACH;FMTTYPE=image/jpeg:https://www.finewineworks.com/wp-content/uploads/2019/05/WSET-Level-One.jpg
END:VEVENT
BEGIN:VEVENT
DTSTART;TZID=Europe/Paris:20200224T080000
DTEND;TZID=Europe/Paris:20200224T170000
DTSTAMP:20260419T173537
CREATED:20191210T191722Z
LAST-MODIFIED:20191210T191722Z
UID:1459-1582531200-1582563600@www.finewineworks.com
SUMMARY:WSET® Wine Level 1\, Palma Mallorca
DESCRIPTION:A one day Wine Course – WSET Level 1 in Wine (GUEST Accredited) held in Palma\, Mallorca at the VIP Service School. \nCourse fee includes lunch & refreshments \nClick to Enquire
URL:https://www.finewineworks.com/fww-wine-training-event/wset-wine-level-1-palma-mallorca/
CATEGORIES:WSET Wine Level 1
ATTACH;FMTTYPE=image/jpeg:https://www.finewineworks.com/wp-content/uploads/2019/05/WSET-Level-One.jpg
END:VEVENT
BEGIN:VEVENT
DTSTART;TZID=Europe/Paris:20200217T080000
DTEND;TZID=Europe/Paris:20200217T170000
DTSTAMP:20260419T173537
CREATED:20191210T191615Z
LAST-MODIFIED:20191210T191615Z
UID:1457-1581926400-1581958800@www.finewineworks.com
SUMMARY:WSET® Wine Level 1\, Antibes France
DESCRIPTION:A three day Wine Course – WSET Level 1 Award in Wines (GUEST Accredited) held in Antibes\, France. \nCourse fee includes lunch & refreshments. \nClick to Enquire
URL:https://www.finewineworks.com/fww-wine-training-event/wset-wine-level-1-antibes-france/
CATEGORIES:WSET Wine Level 1
ATTACH;FMTTYPE=image/jpeg:https://www.finewineworks.com/wp-content/uploads/2019/05/WSET-Level-One.jpg
END:VEVENT
BEGIN:VEVENT
DTSTART;TZID=Europe/Paris:20191125T090000
DTEND;TZID=Europe/Paris:20191125T170000
DTSTAMP:20260419T173537
CREATED:20190808T142659Z
LAST-MODIFIED:20190813T142411Z
UID:1314-1574672400-1574701200@www.finewineworks.com
SUMMARY:WSET® Wine Level 1\, Palma Mallorca
DESCRIPTION:A one day Wine Course – WSET Level 1 in Wine (GUEST Accredited) held in Palma\, Mallorca at the VIP Service School. \nCourse fee includes lunch & refreshments \nClick to Enquire
URL:https://www.finewineworks.com/fww-wine-training-event/wset-level-1-6/
CATEGORIES:WSET Wine Level 1
ATTACH;FMTTYPE=image/jpeg:https://www.finewineworks.com/wp-content/uploads/2019/08/L1-image-for-TC.jpg
END:VEVENT
BEGIN:VEVENT
DTSTART;TZID=Europe/Paris:20191119T090000
DTEND;TZID=Europe/Paris:20191119T170000
DTSTAMP:20260419T173537
CREATED:20190808T142434Z
LAST-MODIFIED:20191210T191218Z
UID:1312-1574154000-1574182800@www.finewineworks.com
SUMMARY:WSET® Wine Level 1\, Antibes France
DESCRIPTION:A one day Wine Course – WSET Level 1 in Wine (GUEST Accredited) held in Antibes\, France. \nCourse fee includes lunch & refreshments \nClick to Enquire
URL:https://www.finewineworks.com/fww-wine-training-event/wset-level-1-5/
CATEGORIES:WSET Wine Level 1
ATTACH;FMTTYPE=image/jpeg:https://www.finewineworks.com/wp-content/uploads/2019/08/L1-image-for-TC.jpg
END:VEVENT
BEGIN:VEVENT
DTSTART;TZID=Europe/Paris:20191022T090000
DTEND;TZID=Europe/Paris:20191022T170000
DTSTAMP:20260419T173537
CREATED:20190808T142330Z
LAST-MODIFIED:20191210T191337Z
UID:1310-1571734800-1571763600@www.finewineworks.com
SUMMARY:WSET® Wine Level 1\, Antibes France
DESCRIPTION:A one day Wine Course – WSET Level 1 in Wine (GUEST Accredited) held in Antibes\, France. \nCourse fee includes lunch & refreshments \nClick to Enquire
URL:https://www.finewineworks.com/fww-wine-training-event/wset-level-1-4/
CATEGORIES:WSET Wine Level 1
ATTACH;FMTTYPE=image/jpeg:https://www.finewineworks.com/wp-content/uploads/2019/08/L1-image-for-TC.jpg
END:VEVENT
BEGIN:VEVENT
DTSTART;TZID=Europe/Paris:20191014T090000
DTEND;TZID=Europe/Paris:20191014T170000
DTSTAMP:20260419T173537
CREATED:20190808T142148Z
LAST-MODIFIED:20190813T142636Z
UID:1308-1571043600-1571072400@www.finewineworks.com
SUMMARY:WSET® Wine Level 1 Palma\, Mallorca
DESCRIPTION:A one day Wine Course – WSET Level 1 in Wine (GUEST Accredited) held in Palma\, Mallorca at the VIP Service School. \nCourse fee includes lunch & refreshments \nClick to Enquire
URL:https://www.finewineworks.com/fww-wine-training-event/wset-level-1-3/
LOCATION:Palma\, Mallorca
CATEGORIES:WSET Wine Level 1
ATTACH;FMTTYPE=image/jpeg:https://www.finewineworks.com/wp-content/uploads/2019/08/L1-image-for-TC.jpg
END:VEVENT
BEGIN:VEVENT
DTSTART;TZID=Europe/Paris:20190401T090000
DTEND;TZID=Europe/Paris:20190401T180000
DTSTAMP:20260419T173537
CREATED:20190315T132939Z
LAST-MODIFIED:20190315T140440Z
UID:264-1554109200-1554141600@www.finewineworks.com
SUMMARY:WSET® Level 1
DESCRIPTION:A one day Wine Course – WSET Level 1 in Wine (GUEST Accredited) held in Palma\, Mallorca at the VIP Service School. \nCourse fee includes lunch & refreshments \nLast TWO places – booking deadline 28th March 2019 \nClick to Enquire
URL:https://www.finewineworks.com/fww-wine-training-event/wset-level-1-2/
CATEGORIES:WSET Wine Level 1
ATTACH;FMTTYPE=image/jpeg:https://www.finewineworks.com/wp-content/uploads/2019/03/wset-course-1.jpg
END:VEVENT
BEGIN:VEVENT
DTSTART;VALUE=DATE:20190322
DTEND;VALUE=DATE:20190323
DTSTAMP:20260419T173537
CREATED:20190315T132724Z
LAST-MODIFIED:20190315T132724Z
UID:257-1553216400-1553216400@www.finewineworks.com
SUMMARY:WSET® Level 1
DESCRIPTION:A one day Wine Course – WSET Level 1 in Wine (GUEST Accredited) held in Biot (near Antibes). \nCourse fee includes lunch & refreshments. \nBookings closed (11.03.19)
URL:https://www.finewineworks.com/fww-wine-training-event/wset-level-1/
LOCATION:Biot
CATEGORIES:WSET Wine Level 1
ATTACH;FMTTYPE=image/jpeg:https://www.finewineworks.com/wp-content/uploads/2019/03/wset-course-1.jpg
END:VEVENT
END:VCALENDAR