BEGIN:VCALENDAR
VERSION:2.0
PRODID:-//FWW - ECPv6.15.15//NONSGML v1.0//EN
CALSCALE:GREGORIAN
METHOD:PUBLISH
X-ORIGINAL-URL:https://www.finewineworks.com
X-WR-CALDESC:Events for FWW
REFRESH-INTERVAL;VALUE=DURATION:PT1H
X-Robots-Tag:noindex
X-PUBLISHED-TTL:PT1H
BEGIN:VTIMEZONE
TZID:Europe/Paris
BEGIN:DAYLIGHT
TZOFFSETFROM:+0100
TZOFFSETTO:+0200
TZNAME:CEST
DTSTART:20210328T010000
END:DAYLIGHT
BEGIN:STANDARD
TZOFFSETFROM:+0200
TZOFFSETTO:+0100
TZNAME:CET
DTSTART:20211031T010000
END:STANDARD
BEGIN:DAYLIGHT
TZOFFSETFROM:+0100
TZOFFSETTO:+0200
TZNAME:CEST
DTSTART:20220327T010000
END:DAYLIGHT
BEGIN:STANDARD
TZOFFSETFROM:+0200
TZOFFSETTO:+0100
TZNAME:CET
DTSTART:20221030T010000
END:STANDARD
BEGIN:DAYLIGHT
TZOFFSETFROM:+0100
TZOFFSETTO:+0200
TZNAME:CEST
DTSTART:20230326T010000
END:DAYLIGHT
BEGIN:STANDARD
TZOFFSETFROM:+0200
TZOFFSETTO:+0100
TZNAME:CET
DTSTART:20231029T010000
END:STANDARD
BEGIN:DAYLIGHT
TZOFFSETFROM:+0100
TZOFFSETTO:+0200
TZNAME:CEST
DTSTART:20240331T010000
END:DAYLIGHT
BEGIN:STANDARD
TZOFFSETFROM:+0200
TZOFFSETTO:+0100
TZNAME:CET
DTSTART:20241027T010000
END:STANDARD
BEGIN:DAYLIGHT
TZOFFSETFROM:+0100
TZOFFSETTO:+0200
TZNAME:CEST
DTSTART:20250330T010000
END:DAYLIGHT
BEGIN:STANDARD
TZOFFSETFROM:+0200
TZOFFSETTO:+0100
TZNAME:CET
DTSTART:20251026T010000
END:STANDARD
BEGIN:DAYLIGHT
TZOFFSETFROM:+0100
TZOFFSETTO:+0200
TZNAME:CEST
DTSTART:20260329T010000
END:DAYLIGHT
BEGIN:STANDARD
TZOFFSETFROM:+0200
TZOFFSETTO:+0100
TZNAME:CET
DTSTART:20261025T010000
END:STANDARD
BEGIN:DAYLIGHT
TZOFFSETFROM:+0100
TZOFFSETTO:+0200
TZNAME:CEST
DTSTART:20270328T010000
END:DAYLIGHT
BEGIN:STANDARD
TZOFFSETFROM:+0200
TZOFFSETTO:+0100
TZNAME:CET
DTSTART:20271031T010000
END:STANDARD
END:VTIMEZONE
BEGIN:VEVENT
DTSTART;VALUE=DATE:20260324
DTEND;VALUE=DATE:20260325
DTSTAMP:20260419T160034
CREATED:20251022T113825Z
LAST-MODIFIED:20260128T104058Z
UID:2721-1774310400-1774396799@www.finewineworks.com
SUMMARY:WSET® Wine Level 1\, Palma Mallorca
DESCRIPTION:A one day Wine Course – WSET Level 1 Award in Wines held at the Superyacht Uniform Showroom in Palma. \nAdvance your skills with an expert-led\, GUEST-approved wine training course for yacht crew professionals in Mallorca. \nClick to Enquire \n  \n“An introduction to wine” \nThe perfect and most straight forward introduction to wine for those new to the industry or indeed wanting to better understand the fundamentals of grape growing\, wine making\, the main grape varieties\, storage and service and food & wine pairing\, with an emphasis on the practical. No experience or other qualifications are required to attend this course – it is also great fun! \nCourse Pre-requisite: No previous qualification required. \nGUEST Program: Accredited as GUEST Program Specialist Unit 12. \nCourse Length: 1 full day (09h00 – 17h30) with a short exam at the end. \nCourse Fee: (includes Refreshments) Please contact us directly for prices for the current Academic year. Multiple bookings for the same yacht can be offered at a discount. \nWSET Level 1 Specification
URL:https://www.finewineworks.com/fww-wine-training-event/wset-wine-level-1-palma-mallorca-march-2026/
CATEGORIES:WSET Wine Level 1
ATTACH;FMTTYPE=image/jpeg:https://www.finewineworks.com/wp-content/uploads/2019/05/WSET-Level-One.jpg
END:VEVENT
BEGIN:VEVENT
DTSTART;VALUE=DATE:20260317
DTEND;VALUE=DATE:20260318
DTSTAMP:20260419T160034
CREATED:20251022T114434Z
LAST-MODIFIED:20260128T104206Z
UID:2726-1773705600-1773791999@www.finewineworks.com
SUMMARY:WSET® Wine Level 1\, Antibes France
DESCRIPTION:A one day Wine Course – WSET Level 1 Award in Wines held at the Royal Antibes Hotel\, Antibes. \nAdvance your skills with an expert-led\, GUEST-approved wine training course for yacht crew professionals in the Côte d’Azur. \nClick to Enquire \n  \n“An introduction to wine” \nThe perfect and most straight forward introduction to wine for those new to the industry or indeed wanting to better understand the fundamentals of grape growing\, wine making\, the main grape varieties\, storage and service and food & wine pairing\, with an emphasis on the practical. No experience or other qualifications are required to attend this course – it is also great fun! \nCourse Pre-requisite: No previous qualification required. \nGUEST Program: Accredited as GUEST Program Specialist Unit 12. \nCourse Length: 1 full day (09h00 – 17h30) with a short exam at the end. \nCourse Fee: (includes Refreshments) Please contact us directly for prices for the current Academic year. Multiple bookings for the same yacht can be offered at a discount. \nWSET Level 1 Specification
URL:https://www.finewineworks.com/fww-wine-training-event/wset-wine-level-1-antibes-france-march-2026/
CATEGORIES:WSET Wine Level 1
ATTACH;FMTTYPE=image/jpeg:https://www.finewineworks.com/wp-content/uploads/2019/05/WSET-Level-One.jpg
END:VEVENT
BEGIN:VEVENT
DTSTART;VALUE=DATE:20260217
DTEND;VALUE=DATE:20260218
DTSTAMP:20260419T160034
CREATED:20251022T112844Z
LAST-MODIFIED:20260128T104300Z
UID:2717-1771286400-1771372799@www.finewineworks.com
SUMMARY:WSET® Wine Level 1\, Palma Mallorca
DESCRIPTION:A one day Wine Course – WSET Level 1 Award in Wines held at the Superyacht Uniform Showroom in Palma. \nAdvance your skills with an expert-led\, GUEST-approved wine training course for yacht crew professionals in Mallorca. \nClick to Enquire \n  \n“An introduction to wine” \nThe perfect and most straight forward introduction to wine for those new to the industry or indeed wanting to better understand the fundamentals of grape growing\, wine making\, the main grape varieties\, storage and service and food & wine pairing\, with an emphasis on the practical. No experience or other qualifications are required to attend this course – it is also great fun! \nCourse Pre-requisite: No previous qualification required. \nGUEST Program: Accredited as GUEST Program Specialist Unit 12. \nCourse Length: 1 full day (09h00 – 17h30) with a short exam at the end. \nCourse Fee: (includes Refreshments) Please contact us directly for prices for the current Academic year. Multiple bookings for the same yacht can be offered at a discount. \nWSET Level 1 Specification
URL:https://www.finewineworks.com/fww-wine-training-event/wset-wine-level-1-palma-mallorca-february-2026/
CATEGORIES:WSET Wine Level 1
ATTACH;FMTTYPE=image/jpeg:https://www.finewineworks.com/wp-content/uploads/2019/05/WSET-Level-One.jpg
END:VEVENT
BEGIN:VEVENT
DTSTART;VALUE=DATE:20260210
DTEND;VALUE=DATE:20260211
DTSTAMP:20260419T160034
CREATED:20251022T101125Z
LAST-MODIFIED:20260128T104346Z
UID:2711-1770681600-1770767999@www.finewineworks.com
SUMMARY:WSET® Wine Level 1\, Antibes France
DESCRIPTION:A one day Wine Course – WSET Level 1 Award in Wines held at the Royal Antibes Hotel\, Antibes.\nAdvance your skills with an expert-led\, GUEST-approved wine training course for yacht crew professionals in the Côte d’Azur. \nClick to Enquire \n  \n“An introduction to wine”\nThe perfect and most straight forward introduction to wine for those new to the industry or indeed wanting to better understand the fundamentals of grape growing\, wine making\, the main grape varieties\, storage and service and food & wine pairing\, with an emphasis on the practical. No experience or other qualifications are required to attend this course – it is also great fun! \nCourse Pre-requisite: No previous qualification required. \nGUEST Program: Accredited as GUEST Program Specialist Unit 12. \nCourse Length: 1 full day (09h00 – 17h30) with a short exam at the end. \nCourse Fee: (includes Refreshments) Please contact us directly for prices for the current Academic year. Multiple bookings for the same yacht can be offered at a discount. \nWSET Level 1 Specification
URL:https://www.finewineworks.com/fww-wine-training-event/wset-wine-level-1-antibes-france-february-2026/
CATEGORIES:WSET Wine Level 1
ATTACH;FMTTYPE=image/jpeg:https://www.finewineworks.com/wp-content/uploads/2019/05/WSET-Level-One.jpg
END:VEVENT
BEGIN:VEVENT
DTSTART;VALUE=DATE:20251125
DTEND;VALUE=DATE:20251126
DTSTAMP:20260419T160034
CREATED:20250603T113205Z
LAST-MODIFIED:20250603T113205Z
UID:2651-1764028800-1764115199@www.finewineworks.com
SUMMARY:WSET® Wine Level 1\, Antibes France
DESCRIPTION:A one day Wine Course – WSET Level 1 Award in Wines held at the Royal Antibes Hotel\, Antibes. \nCourse fee includes refreshments. \nClick to Enquire
URL:https://www.finewineworks.com/fww-wine-training-event/wset-wine-level-1-antibes-france-20/
CATEGORIES:WSET Wine Level 1
ATTACH;FMTTYPE=image/jpeg:https://www.finewineworks.com/wp-content/uploads/2019/05/WSET-Level-One.jpg
END:VEVENT
BEGIN:VEVENT
DTSTART;VALUE=DATE:20251118
DTEND;VALUE=DATE:20251119
DTSTAMP:20260419T160034
CREATED:20250603T113038Z
LAST-MODIFIED:20250603T113038Z
UID:2647-1763424000-1763510399@www.finewineworks.com
SUMMARY:WSET® Wine Level 1\, Palma Mallorca
DESCRIPTION:A one day Wine Course – WSET Level 1 in Wine held in Palma\, Mallorca at the VIP Service School. \nCourse fee includes refreshments \nClick to Enquire
URL:https://www.finewineworks.com/fww-wine-training-event/wset-wine-level-1-palma-mallorca-20/
CATEGORIES:WSET Wine Level 1
ATTACH;FMTTYPE=image/jpeg:https://www.finewineworks.com/wp-content/uploads/2019/05/WSET-Level-One.jpg
END:VEVENT
BEGIN:VEVENT
DTSTART;VALUE=DATE:20251021
DTEND;VALUE=DATE:20251022
DTSTAMP:20260419T160034
CREATED:20250603T112847Z
LAST-MODIFIED:20250603T112847Z
UID:2643-1761004800-1761091199@www.finewineworks.com
SUMMARY:WSET® Wine Level 1\, Palma Mallorca
DESCRIPTION:A one day Wine Course – WSET Level 1 in Wine held in Palma\, Mallorca at the VIP Service School. \nCourse fee includes refreshments \nClick to Enquire
URL:https://www.finewineworks.com/fww-wine-training-event/wset-wine-level-1-palma-mallorca-19/
CATEGORIES:WSET Wine Level 1
ATTACH;FMTTYPE=image/jpeg:https://www.finewineworks.com/wp-content/uploads/2019/05/WSET-Level-One.jpg
END:VEVENT
BEGIN:VEVENT
DTSTART;VALUE=DATE:20251014
DTEND;VALUE=DATE:20251015
DTSTAMP:20260419T160034
CREATED:20250603T112514Z
LAST-MODIFIED:20250603T112514Z
UID:2639-1760400000-1760486399@www.finewineworks.com
SUMMARY:WSET® Wine Level 1\, Antibes France
DESCRIPTION:A one day Wine Course – WSET Level 1 Award in Wines held at the Royal Antibes Hotel\, Antibes. \nCourse fee includes refreshments. \nClick to Enquire
URL:https://www.finewineworks.com/fww-wine-training-event/wset-wine-level-1-antibes-france-19/
CATEGORIES:WSET Wine Level 1
ATTACH;FMTTYPE=image/jpeg:https://www.finewineworks.com/wp-content/uploads/2019/05/WSET-Level-One.jpg
END:VEVENT
BEGIN:VEVENT
DTSTART;VALUE=DATE:20250401
DTEND;VALUE=DATE:20250402
DTSTAMP:20260419T160034
CREATED:20241106T074608Z
LAST-MODIFIED:20241106T074608Z
UID:2493-1743465600-1743551999@www.finewineworks.com
SUMMARY:WSET® Wine Level 1\, Antibes France
DESCRIPTION:A one day Wine Course – WSET Level 1 Award in Wines held at the Royal Antibes Hotel\, Antibes. \nCourse fee includes refreshments. \nClick to Enquire
URL:https://www.finewineworks.com/fww-wine-training-event/wset-wine-level-1-antibes-france-18/
CATEGORIES:WSET Wine Level 1
ATTACH;FMTTYPE=image/jpeg:https://www.finewineworks.com/wp-content/uploads/2019/08/L1-image-for-TC.jpg
END:VEVENT
BEGIN:VEVENT
DTSTART;VALUE=DATE:20250325
DTEND;VALUE=DATE:20250326
DTSTAMP:20260419T160034
CREATED:20241106T074424Z
LAST-MODIFIED:20241106T074424Z
UID:2489-1742860800-1742947199@www.finewineworks.com
SUMMARY:WSET® Wine Level 1\, Palma Mallorca
DESCRIPTION:A one day Wine Course – WSET Level 1 in Wine held in Palma\, Mallorca at the VIP Service School. \nCourse fee includes refreshments \nClick to Enquire
URL:https://www.finewineworks.com/fww-wine-training-event/wset-wine-level-1-palma-mallorca-18/
CATEGORIES:WSET Wine Level 1
ATTACH;FMTTYPE=image/jpeg:https://www.finewineworks.com/wp-content/uploads/2019/08/L1-image-for-TC.jpg
END:VEVENT
BEGIN:VEVENT
DTSTART;VALUE=DATE:20250225
DTEND;VALUE=DATE:20250226
DTSTAMP:20260419T160034
CREATED:20240415T014725Z
LAST-MODIFIED:20241106T073821Z
UID:2433-1740441600-1740527999@www.finewineworks.com
SUMMARY:WSET® Wine Level 1\, Palma Mallorca
DESCRIPTION:A one day Wine Course – WSET Level 1 in Wine held in Palma\, Mallorca at the VIP Service School. \nCourse fee includes refreshments \nClick to Enquire
URL:https://www.finewineworks.com/fww-wine-training-event/wset-wine-level-1-palma-mallorca-17/
CATEGORIES:WSET Wine Level 1
ATTACH;FMTTYPE=image/jpeg:https://www.finewineworks.com/wp-content/uploads/2019/08/L1-image-for-TC.jpg
END:VEVENT
BEGIN:VEVENT
DTSTART;VALUE=DATE:20250218
DTEND;VALUE=DATE:20250219
DTSTAMP:20260419T160034
CREATED:20240415T014419Z
LAST-MODIFIED:20241106T073610Z
UID:2428-1739836800-1739923199@www.finewineworks.com
SUMMARY:WSET® Wine Level 1\, Antibes France
DESCRIPTION:A one day Wine Course – WSET Level 1 Award in Wines held at the Royal Antibes Hotel\, Antibes. \nCourse fee includes refreshments. \nClick to Enquire
URL:https://www.finewineworks.com/fww-wine-training-event/wset-wine-level-1-antibes-france-17/
CATEGORIES:WSET Wine Level 1
ATTACH;FMTTYPE=image/jpeg:https://www.finewineworks.com/wp-content/uploads/2019/08/L1-image-for-TC.jpg
END:VEVENT
BEGIN:VEVENT
DTSTART;VALUE=DATE:20241029
DTEND;VALUE=DATE:20241030
DTSTAMP:20260419T160034
CREATED:20240415T014219Z
LAST-MODIFIED:20240415T014219Z
UID:2421-1730160000-1730246399@www.finewineworks.com
SUMMARY:WSET® Wine Level 1\, Antibes France
DESCRIPTION:A one day Wine Course – WSET Level 1 Award in Wines held in Antibes\, France at ITA Training. \nCourse fee includes refreshments. \nClick to Enquire
URL:https://www.finewineworks.com/fww-wine-training-event/wset-wine-level-1-antibes-france-16/
CATEGORIES:WSET Wine Level 1
ATTACH;FMTTYPE=image/jpeg:https://www.finewineworks.com/wp-content/uploads/2019/08/L1-image-for-TC.jpg
END:VEVENT
BEGIN:VEVENT
DTSTART;VALUE=DATE:20241022
DTEND;VALUE=DATE:20241023
DTSTAMP:20260419T160034
CREATED:20240415T014016Z
LAST-MODIFIED:20240415T014016Z
UID:2417-1729555200-1729641599@www.finewineworks.com
SUMMARY:WSET® Wine Level 1\, Palma Mallorca
DESCRIPTION:A one day Wine Course – WSET Level 1 in Wine held in Palma\, Mallorca at the VIP Service School. \nCourse fee includes refreshments \nClick to Enquire
URL:https://www.finewineworks.com/fww-wine-training-event/wset-wine-level-1-palma-mallorca-16/
CATEGORIES:WSET Wine Level 1
ATTACH;FMTTYPE=image/jpeg:https://www.finewineworks.com/wp-content/uploads/2019/08/L1-image-for-TC.jpg
END:VEVENT
BEGIN:VEVENT
DTSTART;VALUE=DATE:20240416
DTEND;VALUE=DATE:20240417
DTSTAMP:20260419T160034
CREATED:20230904T144433Z
LAST-MODIFIED:20230904T144433Z
UID:2412-1713225600-1713311999@www.finewineworks.com
SUMMARY:WSET® Wine Level 1\, Antibes France
DESCRIPTION:A one day Wine Course – WSET Level 1 Award in Wines held in Antibes\, France at ITA Training. \nCourse fee includes refreshments. \nLevel 1 – £260 \nClick to Enquire
URL:https://www.finewineworks.com/fww-wine-training-event/wset-wine-level-1-antibes-france-15/
CATEGORIES:WSET Wine Level 1
ATTACH;FMTTYPE=image/jpeg:https://www.finewineworks.com/wp-content/uploads/2019/08/L1-image-for-TC.jpg
END:VEVENT
BEGIN:VEVENT
DTSTART;VALUE=DATE:20240409
DTEND;VALUE=DATE:20240410
DTSTAMP:20260419T160034
CREATED:20230904T144201Z
LAST-MODIFIED:20230904T144201Z
UID:2408-1712620800-1712707199@www.finewineworks.com
SUMMARY:WSET® Wine Level 1\, Palma Mallorca
DESCRIPTION:A one day Wine Course – WSET Level 1 in Wine held in Palma\, Mallorca at the VIP Service School. \nCourse fee includes refreshments \nLevel 1 – £260 \nClick to Enquire
URL:https://www.finewineworks.com/fww-wine-training-event/wset-wine-level-1-palma-mallorca-15/
CATEGORIES:WSET Wine Level 1
ATTACH;FMTTYPE=image/jpeg:https://www.finewineworks.com/wp-content/uploads/2019/08/L1-image-for-TC.jpg
END:VEVENT
BEGIN:VEVENT
DTSTART;VALUE=DATE:20240227
DTEND;VALUE=DATE:20240228
DTSTAMP:20260419T160034
CREATED:20230904T143954Z
LAST-MODIFIED:20231110T150316Z
UID:2404-1708992000-1709078399@www.finewineworks.com
SUMMARY:WSET® Wine Level 1\, Palma Mallorca
DESCRIPTION:A one day Wine Course – WSET Level 1 in Wine held in Palma\, Mallorca at the VIP Service School. \nCourse fee includes refreshments \nLevel 1 – £260 \nClick to Enquire
URL:https://www.finewineworks.com/fww-wine-training-event/wset-wine-level-1-palma-mallorca-14/
CATEGORIES:WSET Wine Level 1
ATTACH;FMTTYPE=image/jpeg:https://www.finewineworks.com/wp-content/uploads/2019/08/L1-image-for-TC.jpg
END:VEVENT
BEGIN:VEVENT
DTSTART;VALUE=DATE:20240220
DTEND;VALUE=DATE:20240221
DTSTAMP:20260419T160034
CREATED:20230904T143545Z
LAST-MODIFIED:20230904T145104Z
UID:2400-1708387200-1708473599@www.finewineworks.com
SUMMARY:WSET® Wine Level 1\, Antibes France
DESCRIPTION:A one day Wine Course – WSET Level 1 Award in Wines held in Antibes\, France at ITA Training. \nCourse fee includes refreshments. \nLevel 1 – £260 \nClick to Enquire
URL:https://www.finewineworks.com/fww-wine-training-event/wset-wine-level-1-antibes-france-14/
CATEGORIES:WSET Wine Level 1
ATTACH;FMTTYPE=image/jpeg:https://www.finewineworks.com/wp-content/uploads/2019/08/L1-image-for-TC.jpg
END:VEVENT
BEGIN:VEVENT
DTSTART;VALUE=DATE:20231107
DTEND;VALUE=DATE:20231108
DTSTAMP:20260419T160034
CREATED:20230713T095108Z
LAST-MODIFIED:20230713T095108Z
UID:2391-1699315200-1699401599@www.finewineworks.com
SUMMARY:WSET® Wine Level 1\, Palma Mallorca
DESCRIPTION:A one day Wine Course – WSET Level 1 in Wine held in Palma\, Mallorca at the VIP Service School. \nCourse fee includes refreshments \nLevel 1 – £260 \nClick to Enquire
URL:https://www.finewineworks.com/fww-wine-training-event/wset-wine-level-1-palma-mallorca-13/
CATEGORIES:WSET Wine Level 1
ATTACH;FMTTYPE=image/jpeg:https://www.finewineworks.com/wp-content/uploads/2019/08/L1-image-for-TC.jpg
END:VEVENT
BEGIN:VEVENT
DTSTART;VALUE=DATE:20231031
DTEND;VALUE=DATE:20231101
DTSTAMP:20260419T160034
CREATED:20230713T094702Z
LAST-MODIFIED:20230904T144729Z
UID:2387-1698710400-1698796799@www.finewineworks.com
SUMMARY:WSET® Wine Level 1\, Antibes France
DESCRIPTION:A one day Wine Course – WSET Level 1 Award in Wines held in Antibes\, France at ITA Training. \nCourse fee includes refreshments. \nLevel 1 – £260 \nClick to Enquire
URL:https://www.finewineworks.com/fww-wine-training-event/wset-wine-level-1-antibes-france-13/
CATEGORIES:WSET Wine Level 1
ATTACH;FMTTYPE=image/jpeg:https://www.finewineworks.com/wp-content/uploads/2019/08/L1-image-for-TC.jpg
END:VEVENT
BEGIN:VEVENT
DTSTART;VALUE=DATE:20230321
DTEND;VALUE=DATE:20230322
DTSTAMP:20260419T160034
CREATED:20221125T142804Z
LAST-MODIFIED:20221125T142804Z
UID:2341-1679356800-1679443199@www.finewineworks.com
SUMMARY:WSET® Wine Level 1\, Antibes France
DESCRIPTION:A one day Wine Course – WSET Level 1 Award in Wines held in Antibes\, France at ITA Training. \nCourse fee includes refreshments. \nClick to Enquire
URL:https://www.finewineworks.com/fww-wine-training-event/wset-wine-level-1-antibes-france-12/
LOCATION:Biot
CATEGORIES:WSET Wine Level 1
ATTACH;FMTTYPE=image/jpeg:https://www.finewineworks.com/wp-content/uploads/2019/08/L1-image-for-TC.jpg
END:VEVENT
BEGIN:VEVENT
DTSTART;VALUE=DATE:20230314
DTEND;VALUE=DATE:20230315
DTSTAMP:20260419T160034
CREATED:20221125T142452Z
LAST-MODIFIED:20221125T142452Z
UID:2337-1678752000-1678838399@www.finewineworks.com
SUMMARY:WSET® Wine Level 1\, Palma Mallorca
DESCRIPTION:A one day Wine Course – WSET Level 1 in Wine held in Palma\, Mallorca at the VIP Service School. \nCourse fee includes refreshments \nClick to Enquire
URL:https://www.finewineworks.com/fww-wine-training-event/wset-wine-level-1-palma-mallorca-12/
CATEGORIES:WSET Wine Level 1
ATTACH;FMTTYPE=image/jpeg:https://www.finewineworks.com/wp-content/uploads/2019/08/L1-image-for-TC.jpg
END:VEVENT
BEGIN:VEVENT
DTSTART;VALUE=DATE:20230221
DTEND;VALUE=DATE:20230222
DTSTAMP:20260419T160034
CREATED:20221125T141848Z
LAST-MODIFIED:20221125T141848Z
UID:2333-1676937600-1677023999@www.finewineworks.com
SUMMARY:WSET® Wine Level 1\, Antibes France
DESCRIPTION:A one day Wine Course – WSET Level 1 Award in Wines held in Antibes\, France at ITA Training. \nCourse fee includes refreshments. \nClick to Enquire
URL:https://www.finewineworks.com/fww-wine-training-event/wset-wine-level-1-antibes-france-11/
LOCATION:Biot
CATEGORIES:WSET Wine Level 1
ATTACH;FMTTYPE=image/jpeg:https://www.finewineworks.com/wp-content/uploads/2019/08/L1-image-for-TC.jpg
END:VEVENT
BEGIN:VEVENT
DTSTART;VALUE=DATE:20230214
DTEND;VALUE=DATE:20230215
DTSTAMP:20260419T160034
CREATED:20221125T141610Z
LAST-MODIFIED:20221125T141610Z
UID:2329-1676332800-1676419199@www.finewineworks.com
SUMMARY:WSET® Wine Level 1\, Palma Mallorca
DESCRIPTION:A one day Wine Course – WSET Level 1 in Wine held in Palma\, Mallorca at the VIP Service School. \nCourse fee includes refreshments \nClick to Enquire
URL:https://www.finewineworks.com/fww-wine-training-event/wset-wine-level-1-palma-mallorca-11/
LOCATION:Palma\, Mallorca
CATEGORIES:WSET Wine Level 1
ATTACH;FMTTYPE=image/jpeg:https://www.finewineworks.com/wp-content/uploads/2019/08/L1-image-for-TC.jpg
END:VEVENT
BEGIN:VEVENT
DTSTART;VALUE=DATE:20221115
DTEND;VALUE=DATE:20221116
DTSTAMP:20260419T160034
CREATED:20220414T121101Z
LAST-MODIFIED:20221116T130526Z
UID:2279-1668470400-1668556799@www.finewineworks.com
SUMMARY:WSET® Wine Level 1\, Antibes France
DESCRIPTION:A one day Wine Course – WSET Level 1 Award in Wines held in Antibes\, France at ITA Training. \nCourse fee includes refreshments. \nClick to Enquire
URL:https://www.finewineworks.com/fww-wine-training-event/wset-wine-level-1-antibes-france-10/
CATEGORIES:WSET Wine Level 1
ATTACH;FMTTYPE=image/jpeg:https://www.finewineworks.com/wp-content/uploads/2019/08/L1-image-for-TC.jpg
END:VEVENT
BEGIN:VEVENT
DTSTART;VALUE=DATE:20221108
DTEND;VALUE=DATE:20221109
DTSTAMP:20260419T160034
CREATED:20220414T120747Z
LAST-MODIFIED:20220414T120747Z
UID:2271-1667865600-1667951999@www.finewineworks.com
SUMMARY:WSET® Wine Level 1\, Palma Mallorca
DESCRIPTION:A one day Wine Course – WSET Level 1 in Wine held in Palma\, Mallorca at the VIP Service School. \nCourse fee includes refreshments \nClick to Enquire
URL:https://www.finewineworks.com/fww-wine-training-event/wset-wine-level-1-palma-mallorca-10/
CATEGORIES:WSET Wine Level 1
ATTACH;FMTTYPE=image/jpeg:https://www.finewineworks.com/wp-content/uploads/2019/08/L1-image-for-TC.jpg
END:VEVENT
BEGIN:VEVENT
DTSTART;VALUE=DATE:20221011
DTEND;VALUE=DATE:20221012
DTSTAMP:20260419T160034
CREATED:20220414T120928Z
LAST-MODIFIED:20220414T120928Z
UID:2275-1665446400-1665532799@www.finewineworks.com
SUMMARY:WSET® Wine Level 1\, Antibes France
DESCRIPTION:A one day Wine Course – WSET Level 1 Award in Wines held in Antibes\, France. \nCourse fee includes refreshments. \nClick to Enquire
URL:https://www.finewineworks.com/fww-wine-training-event/wset-wine-level-1-antibes-france-9/
CATEGORIES:WSET Wine Level 1
ATTACH;FMTTYPE=image/jpeg:https://www.finewineworks.com/wp-content/uploads/2019/08/L1-image-for-TC.jpg
END:VEVENT
BEGIN:VEVENT
DTSTART;VALUE=DATE:20221004
DTEND;VALUE=DATE:20221005
DTSTAMP:20260419T160034
CREATED:20220414T120403Z
LAST-MODIFIED:20220414T120403Z
UID:2266-1664841600-1664927999@www.finewineworks.com
SUMMARY:WSET® Wine Level 1\, Palma Mallorca
DESCRIPTION:A one day Wine Course – WSET Level 1 in Wine held in Palma\, Mallorca at the VIP Service School. \nCourse fee includes refreshments \nClick to Enquire
URL:https://www.finewineworks.com/fww-wine-training-event/wset-wine-level-1-palma-mallorca-9/
CATEGORIES:WSET Wine Level 1
ATTACH;FMTTYPE=image/jpeg:https://www.finewineworks.com/wp-content/uploads/2019/08/L1-image-for-TC.jpg
END:VEVENT
BEGIN:VEVENT
DTSTART;VALUE=DATE:20220329
DTEND;VALUE=DATE:20220330
DTSTAMP:20260419T160034
CREATED:20211201T164120Z
LAST-MODIFIED:20211201T164120Z
UID:2224-1648512000-1648598399@www.finewineworks.com
SUMMARY:WSET® Wine Level 1\, Palma Mallorca
DESCRIPTION:A one day Wine Course – WSET Level 1 in Wine held in Palma\, Mallorca at the VIP Service School. \nCourse fee includes refreshments \nClick to Enquire
URL:https://www.finewineworks.com/fww-wine-training-event/wset-wine-level-1-palma-mallorca-8/
CATEGORIES:WSET Wine Level 1
ATTACH;FMTTYPE=image/jpeg:https://www.finewineworks.com/wp-content/uploads/2019/05/WSET-Level-One.jpg
END:VEVENT
BEGIN:VEVENT
DTSTART;VALUE=DATE:20220322
DTEND;VALUE=DATE:20220323
DTSTAMP:20260419T160034
CREATED:20211201T163721Z
LAST-MODIFIED:20211201T163721Z
UID:2218-1647907200-1647993599@www.finewineworks.com
SUMMARY:WSET® Wine Level 1\, Antibes France
DESCRIPTION:A one day Wine Course – WSET Level 1 Award in Wines held in Antibes\, France. \nCourse fee includes refreshments. \nClick to Enquire
URL:https://www.finewineworks.com/fww-wine-training-event/wset-wine-level-1-antibes-france-8/
CATEGORIES:WSET Wine Level 1
ATTACH;FMTTYPE=image/jpeg:https://www.finewineworks.com/wp-content/uploads/2019/05/WSET-Level-One.jpg
END:VEVENT
END:VCALENDAR