BEGIN:VCALENDAR
VERSION:2.0
PRODID:-//FWW - ECPv6.15.15//NONSGML v1.0//EN
CALSCALE:GREGORIAN
METHOD:PUBLISH
X-WR-CALNAME:FWW
X-ORIGINAL-URL:https://www.finewineworks.com
X-WR-CALDESC:Events for FWW
REFRESH-INTERVAL;VALUE=DURATION:PT1H
X-Robots-Tag:noindex
X-PUBLISHED-TTL:PT1H
BEGIN:VTIMEZONE
TZID:Europe/Paris
BEGIN:DAYLIGHT
TZOFFSETFROM:+0100
TZOFFSETTO:+0200
TZNAME:CEST
DTSTART:20250330T010000
END:DAYLIGHT
BEGIN:STANDARD
TZOFFSETFROM:+0200
TZOFFSETTO:+0100
TZNAME:CET
DTSTART:20251026T010000
END:STANDARD
BEGIN:DAYLIGHT
TZOFFSETFROM:+0100
TZOFFSETTO:+0200
TZNAME:CEST
DTSTART:20260329T010000
END:DAYLIGHT
BEGIN:STANDARD
TZOFFSETFROM:+0200
TZOFFSETTO:+0100
TZNAME:CET
DTSTART:20261025T010000
END:STANDARD
BEGIN:DAYLIGHT
TZOFFSETFROM:+0100
TZOFFSETTO:+0200
TZNAME:CEST
DTSTART:20270328T010000
END:DAYLIGHT
BEGIN:STANDARD
TZOFFSETFROM:+0200
TZOFFSETTO:+0100
TZNAME:CET
DTSTART:20271031T010000
END:STANDARD
END:VTIMEZONE
BEGIN:VEVENT
DTSTART;VALUE=DATE:20260317
DTEND;VALUE=DATE:20260318
DTSTAMP:20260419T190426
CREATED:20251022T114434Z
LAST-MODIFIED:20260128T104206Z
UID:2726-1773705600-1773791999@www.finewineworks.com
SUMMARY:WSET® Wine Level 1\, Antibes France
DESCRIPTION:A one day Wine Course – WSET Level 1 Award in Wines held at the Royal Antibes Hotel\, Antibes. \nAdvance your skills with an expert-led\, GUEST-approved wine training course for yacht crew professionals in the Côte d’Azur. \nClick to Enquire \n  \n“An introduction to wine” \nThe perfect and most straight forward introduction to wine for those new to the industry or indeed wanting to better understand the fundamentals of grape growing\, wine making\, the main grape varieties\, storage and service and food & wine pairing\, with an emphasis on the practical. No experience or other qualifications are required to attend this course – it is also great fun! \nCourse Pre-requisite: No previous qualification required. \nGUEST Program: Accredited as GUEST Program Specialist Unit 12. \nCourse Length: 1 full day (09h00 – 17h30) with a short exam at the end. \nCourse Fee: (includes Refreshments) Please contact us directly for prices for the current Academic year. Multiple bookings for the same yacht can be offered at a discount. \nWSET Level 1 Specification
URL:https://www.finewineworks.com/fww-wine-training-event/wset-wine-level-1-antibes-france-march-2026/
CATEGORIES:WSET Wine Level 1
ATTACH;FMTTYPE=image/jpeg:https://www.finewineworks.com/wp-content/uploads/2019/05/WSET-Level-One.jpg
END:VEVENT
END:VCALENDAR